BEGIN:VCALENDAR
VERSION:2.0
PRODID:-//hacksw/handcal//NONSGML v1.0//EN
CALSCALE:GREGORIAN
BEGIN:VEVENT
LOCATION:Webcast
DESCRIPTION:I penetrationstester går det nästan alltid att ta sig in i en IT-miljö. Den avgörande frågan är därför inte om det går – utan vad som bör skyddas mest\, vilka intrångsvägar och risker som finns\, och hur man får ut mest värde av sina säkerhetstester. Don’t be the Catch of the Day Don’t assume. Audit for clarity. Pentest for proof.
DTSTART:20260528T070000Z
DTEND:20260528T080000Z
SUMMARY:CyberTalk 2026: From Assumption to Evidence
URL;VALUE=URI:https://se.netnordic.noboxdesign.se/events/cybertalk-2026/
DTSTAMP:20260423T161523Z
UID:69ea459b056d0
END:VEVENT
END:VCALENDAR