BEGIN:VCALENDAR
VERSION:2.0
PRODID:-//hacksw/handcal//NONSGML v1.0//EN
CALSCALE:GREGORIAN
BEGIN:VEVENT
LOCATION:Webinar
DESCRIPTION:Genom att förstå skillnaden mellan Azure AI Foundry och Copilot Studio kan du välja rätt plattform för just ditt användningsfall\, anpassa den efter ditt teams kompetens och bygga AI-lösningar mer effektivt utan onödig komplexitet\, kostnader eller omarbetningar. Anmäl dig till webbinariet för att lära dig mer!
DTSTART:20260429T120000Z
DTEND:20260429T124500Z
SUMMARY:Azure AI Foundry vs. Copilot Studio: Vilket verktyg ska du använda?
URL;VALUE=URI:https://se.netnordic.noboxdesign.se/events/azure-ai-foundry-eller-copilot-studio-vilket-verktyg-ska-du-valja/
DTSTAMP:20260423T161523Z
UID:69ea459b055a5
END:VEVENT
END:VCALENDAR